BEGIN:VCALENDAR
VERSION:2.0
PRODID:-//Kaspar Baum - ECPv6.15.15//NONSGML v1.0//EN
CALSCALE:GREGORIAN
METHOD:PUBLISH
X-ORIGINAL-URL:https://www.kasparbaum.nl
X-WR-CALDESC:Evenementen voor Kaspar Baum
REFRESH-INTERVAL;VALUE=DURATION:PT1H
X-Robots-Tag:noindex
X-PUBLISHED-TTL:PT1H
BEGIN:VTIMEZONE
TZID:Europe/Amsterdam
BEGIN:DAYLIGHT
TZOFFSETFROM:+0100
TZOFFSETTO:+0200
TZNAME:CEST
DTSTART:20200329T010000
END:DAYLIGHT
BEGIN:STANDARD
TZOFFSETFROM:+0200
TZOFFSETTO:+0100
TZNAME:CET
DTSTART:20201025T010000
END:STANDARD
BEGIN:DAYLIGHT
TZOFFSETFROM:+0100
TZOFFSETTO:+0200
TZNAME:CEST
DTSTART:20210328T010000
END:DAYLIGHT
BEGIN:STANDARD
TZOFFSETFROM:+0200
TZOFFSETTO:+0100
TZNAME:CET
DTSTART:20211031T010000
END:STANDARD
BEGIN:DAYLIGHT
TZOFFSETFROM:+0100
TZOFFSETTO:+0200
TZNAME:CEST
DTSTART:20220327T010000
END:DAYLIGHT
BEGIN:STANDARD
TZOFFSETFROM:+0200
TZOFFSETTO:+0100
TZNAME:CET
DTSTART:20221030T010000
END:STANDARD
END:VTIMEZONE
BEGIN:VEVENT
DTSTART;TZID=Europe/Amsterdam:20210925T170000
DTEND;TZID=Europe/Amsterdam:20210925T180000
DTSTAMP:20260422T115045
CREATED:20210908T173706Z
LAST-MODIFIED:20210923T113238Z
UID:208-1632589200-1632592800@www.kasparbaum.nl
SUMMARY:Uitalage Utrecht
DESCRIPTION:Onze allereerste show! Een akoestische show door Ernst\, Evert en Jelmer in het theater van de UITalage. Je krijgt gratis toegang\, en er zijn maximaal 30 (zit)plaatsen. Dus kom op tijd!
URL:https://www.kasparbaum.nl/show/2021-uitalage-utrecht/
LOCATION:UITalage Utrecht\, Steenweg 34\, Utrecht\, Utrecht\, 3511 JS\, Nederland
ATTACH;FMTTYPE=image/jpeg:https://www.kasparbaum.nl/wp-content/uploads/2021/09/UITalage-Utrecht.jpg
END:VEVENT
END:VCALENDAR