BEGIN:VCALENDAR
VERSION:2.0
PRODID:-//Kaspar Baum - ECPv6.15.15//NONSGML v1.0//EN
CALSCALE:GREGORIAN
METHOD:PUBLISH
X-WR-CALNAME:Kaspar Baum
X-ORIGINAL-URL:https://www.kasparbaum.nl
X-WR-CALDESC:Evenementen voor Kaspar Baum
REFRESH-INTERVAL;VALUE=DURATION:PT1H
X-Robots-Tag:noindex
X-PUBLISHED-TTL:PT1H
BEGIN:VTIMEZONE
TZID:Europe/Amsterdam
BEGIN:DAYLIGHT
TZOFFSETFROM:+0100
TZOFFSETTO:+0200
TZNAME:CEST
DTSTART:20230326T010000
END:DAYLIGHT
BEGIN:STANDARD
TZOFFSETFROM:+0200
TZOFFSETTO:+0100
TZNAME:CET
DTSTART:20231029T010000
END:STANDARD
BEGIN:DAYLIGHT
TZOFFSETFROM:+0100
TZOFFSETTO:+0200
TZNAME:CEST
DTSTART:20240331T010000
END:DAYLIGHT
BEGIN:STANDARD
TZOFFSETFROM:+0200
TZOFFSETTO:+0100
TZNAME:CET
DTSTART:20241027T010000
END:STANDARD
BEGIN:DAYLIGHT
TZOFFSETFROM:+0100
TZOFFSETTO:+0200
TZNAME:CEST
DTSTART:20250330T010000
END:DAYLIGHT
BEGIN:STANDARD
TZOFFSETFROM:+0200
TZOFFSETTO:+0100
TZNAME:CET
DTSTART:20251026T010000
END:STANDARD
END:VTIMEZONE
BEGIN:VEVENT
DTSTART;TZID=Europe/Amsterdam:20240203T200000
DTEND;TZID=Europe/Amsterdam:20240203T230000
DTSTAMP:20260421T134529
CREATED:20231204T213528Z
LAST-MODIFIED:20240319T203758Z
UID:804-1706990400-1707001200@www.kasparbaum.nl
SUMMARY:Albumrelease World Wide Willow\, dB's Utrecht
DESCRIPTION:Op 3 februari presenteren we ons tweede album World Wide Willow in dB’s.  \nHet nieuwe album is\, meer nog dan debuutplaat Vuurland\, een weergave van de huidige donkere tijdsgeest. “Love is lost\, love is gone in machinery” klinkt het in het nummer Weather dat in december als single is uitgebracht. \nDe avond wordt geopend door Youri Lentjes\, die ook bekende en nieuwe nummers zal spelen.
URL:https://www.kasparbaum.nl/show/albumrelease-dbs-utrecht/
LOCATION:dB’s CAB\, CAB-Rondom 100\, Utrecht\, 3534 BE
ATTACH;FMTTYPE=image/jpeg:https://www.kasparbaum.nl/wp-content/uploads/2024/01/Affiche-3-feb-dBs-Kaspar-Baum-scaled.jpg
END:VEVENT
END:VCALENDAR